BEGIN:VCALENDAR
VERSION:2.0
PRODID:-//RiExpo - ECPv6.15.20//NONSGML v1.0//EN
CALSCALE:GREGORIAN
METHOD:PUBLISH
X-WR-CALNAME:RiExpo
X-ORIGINAL-URL:https://ri-expo.org
X-WR-CALDESC:Events for RiExpo
REFRESH-INTERVAL;VALUE=DURATION:PT1H
X-Robots-Tag:noindex
X-PUBLISHED-TTL:PT1H
BEGIN:VTIMEZONE
TZID:Europe/Zagreb
BEGIN:DAYLIGHT
TZOFFSETFROM:+0100
TZOFFSETTO:+0200
TZNAME:CEST
DTSTART:20250330T010000
END:DAYLIGHT
BEGIN:STANDARD
TZOFFSETFROM:+0200
TZOFFSETTO:+0100
TZNAME:CET
DTSTART:20251026T010000
END:STANDARD
BEGIN:DAYLIGHT
TZOFFSETFROM:+0100
TZOFFSETTO:+0200
TZNAME:CEST
DTSTART:20260329T010000
END:DAYLIGHT
BEGIN:STANDARD
TZOFFSETFROM:+0200
TZOFFSETTO:+0100
TZNAME:CET
DTSTART:20261025T010000
END:STANDARD
BEGIN:DAYLIGHT
TZOFFSETFROM:+0100
TZOFFSETTO:+0200
TZNAME:CEST
DTSTART:20270328T010000
END:DAYLIGHT
BEGIN:STANDARD
TZOFFSETFROM:+0200
TZOFFSETTO:+0100
TZNAME:CET
DTSTART:20271031T010000
END:STANDARD
END:VTIMEZONE
BEGIN:VTIMEZONE
TZID:Europe/Paris
BEGIN:DAYLIGHT
TZOFFSETFROM:+0100
TZOFFSETTO:+0200
TZNAME:CEST
DTSTART:20250330T010000
END:DAYLIGHT
BEGIN:STANDARD
TZOFFSETFROM:+0200
TZOFFSETTO:+0100
TZNAME:CET
DTSTART:20251026T010000
END:STANDARD
BEGIN:DAYLIGHT
TZOFFSETFROM:+0100
TZOFFSETTO:+0200
TZNAME:CEST
DTSTART:20260329T010000
END:DAYLIGHT
BEGIN:STANDARD
TZOFFSETFROM:+0200
TZOFFSETTO:+0100
TZNAME:CET
DTSTART:20261025T010000
END:STANDARD
BEGIN:DAYLIGHT
TZOFFSETFROM:+0100
TZOFFSETTO:+0200
TZNAME:CEST
DTSTART:20270328T010000
END:DAYLIGHT
BEGIN:STANDARD
TZOFFSETFROM:+0200
TZOFFSETTO:+0100
TZNAME:CET
DTSTART:20271031T010000
END:STANDARD
END:VTIMEZONE
BEGIN:VEVENT
DTSTART;TZID=Europe/Zagreb:20260423T100000
DTEND;TZID=Europe/Zagreb:20260423T200000
DTSTAMP:20260422T194431
CREATED:20260415T195753Z
LAST-MODIFIED:20260415T195753Z
UID:100777-1776938400-1776974400@ri-expo.org
SUMMARY:Predavanja i Paneli DAN 1 – 23.04. (ČETVRTAK)
DESCRIPTION:DAN 1 – 23.04. (ČETVRTAK)\nZDRAVLJE\, AI I DRUŠTVO\nPROGRAM: 10:00 – 20:00 \n\n10:00 – 10:15\nRegistracija i uvod \n\nBLOK: PSIHIJATRIJA I DIGITALNA MEDICINA\n10:15 – 10:35PREDAVANJEProf. dr. sc. Vesna Šendula Jengić \n10:35 – 10:55PREDAVANJEProf. dr. sc. Davor Mucić \n10:55 – 11:15PREDAVANJEDr. sc. Sanja Katalinić \n11:15 – 11:35PREDAVANJEDoc. dr. sc. Franko Hržić \n11:35 – 11:45Pitanja publike \n\n11:45 – 12:30\nNETWORKING \n\nBLOK: MOZAK\, AI I ZNANOST\n12:30 – 12:50PREDAVANJEDoc. dr. sc. Jelena Božek \n12:50 – 13:10PREDAVANJE (ONLINE)Doc. dr. sc. Nikolina Frid \n13:10 – 13:30PREDAVANJE (ONLINE\, USA)Dr. sc. Alen Juginović \n13:30 – 13:45Pitanja publike \n\n13:45 – 15:00\nLUNCH & NETWORKING \n\n15:00 – 16:15\nPANELRAZVOJ\, INFRASTRUKTURA I REGIJA \nSudionici:Vedran KružićMarko MikašinovićToni ŠtimacVedran VivodaIvica Zbašnik \n16:15 – 16:30Pitanja publike \n\n16:30 – 17:30\nSlobodno vrijeme\, mediji\, B2B \n\n18:00 – 20:00\nSVEČANO OTVARANJEPozdravni govori predstavnika institucija\, partnera i organizatoraUmjetnički programDomjenak i druženje
URL:https://ri-expo.org/program/predavanja-i-paneli-dan-1-23-04-cetvrtak/
ATTACH;FMTTYPE=image/png:https://ri-expo.org/wp-content/uploads/2026/04/1.png
END:VEVENT
BEGIN:VEVENT
DTSTART;TZID=Europe/Zagreb:20260423T120000
DTEND;TZID=Europe/Zagreb:20260426T180000
DTSTAMP:20260422T194431
CREATED:20260415T191731Z
LAST-MODIFIED:20260415T214804Z
UID:100772-1776945600-1777226400@ri-expo.org
SUMMARY:Radno Vrijeme i Program Sajma
DESCRIPTION:RADNO VRIJEME SAJMA – RI EXPO 2026\n23. travnja 2026.12:00 – 20:00 \n24. – 25. travnja 2026.10:00 – 20:00 \n26. travnja 2026.10:00 – 18:00 \nKONTINUIRANI PROGRAM (SVA 4 DANA)\nVR zona i demonstracijeGaming zonaSTEM radioniceInteraktivne prezentacije izlagača
URL:https://ri-expo.org/program/radno-vrijeme-sajma/
ATTACH;FMTTYPE=image/jpeg:https://ri-expo.org/wp-content/uploads/2026/02/Export-Drvo-e1776281126907.jpg
END:VEVENT
BEGIN:VEVENT
DTSTART;TZID=Europe/Paris:20260423T180000
DTEND;TZID=Europe/Paris:20260423T200000
DTSTAMP:20260422T194431
CREATED:20260414T172415Z
LAST-MODIFIED:20260414T173038Z
UID:100755-1776967200-1776974400@ri-expo.org
SUMMARY:PROGRAM OTVORENJA - RiTech Expo 2026.
DESCRIPTION:Radno vrijeme sajma na dan otvorenja\n12:00 – 20:00 Sajamski i izložbeni prostor otvoren za posjetitelje \nSvečano otvorenje\n18:00 – 20:00 \nSvečano otvorenje manifestacije RiTech Expo 2026 okuplja visoke uzvanike\, predstavnike institucija\, akademske zajednice\, gospodarstva i medija\, s ciljem predstavljanja vizije razvoja tehnologije\, inovacija i suvremenog društva. \n18:00 Dolazak uzvanika i zauzimanje mjesta uz ambijentalnu glazbu18:02 Izvođenje himne Republike Hrvatske18:05 Uvodno obraćanje moderatora18:10 Pozdravni govori visokih uzvanika\, predstavnika Primorsko-goranske županije i Grada Rijeke\, turističkih institucija\, izaslanika predsjednika Hrvatskog sabora te ključnih partnera i organizatora manifestacije18:30 Umjetnički segment programa18:50 Službeno otvorenje manifestacije19:00 – 20:00 Prigodan domjenak i druženje uzvanika\, partnera i gostiju
URL:https://ri-expo.org/program/program-otvorenja-ritech-expo-2026/
ATTACH;FMTTYPE=image/webp:https://ri-expo.org/wp-content/uploads/2026/02/homepage-hero-image.webp
END:VEVENT
BEGIN:VEVENT
DTSTART;TZID=Europe/Zagreb:20260424T133000
DTEND;TZID=Europe/Zagreb:20260424T190000
DTSTAMP:20260422T194431
CREATED:20260415T195917Z
LAST-MODIFIED:20260415T200640Z
UID:100786-1777037400-1777057200@ri-expo.org
SUMMARY:Predavanja i Paneli DAN 2 – 24.04. (PETAK)
DESCRIPTION:DAN 2 – 24.04. (PETAK)\nDRUŠTVO\, OBRAZOVANJE I MEDIJI\nPROGRAM: 13:30 – 19:00 \n\n13:30 – 14:00\nDolazak + NETWORKING \n\n14:00 – 14:45\nPANELŠKOLA BUDUĆNOSTI \nSudionici:Nensi AraminčićBoris CaputIvan ČelebićSanja Lujić-Pirc \n14:45 – 15:00Pitanja publike \n\n15:00 – 15:45\nPANELPRAVO\, ETIKA I UMJETNA INTELIGENCIJA \nSudionici:Branimir ČolićLaura GrubišićIvana KundaPaul Simunović \n15:45 – 16:00Pitanja publike \n\n16:00 – 16:30\nNETWORKING PAUZA \n\n16:30 – 17:15\nPANELMEDIJI\, POLITIKA I STVARNOST \nSudionici:Saša ĐujićMarijan PalićDomagoj TramontanaDanko Švorinić \n17:15 – 17:30Pitanja publike \n\n17:30 – 18:15\nPANELDIGITALNO DRUŠTVO I PERCEPCIJA STVARNOSTI \nSudionici:Katarina BarukčićIvana ŠimunovićPaul SimunovićSanja Katalinić \n18:15 – 18:30Pitanja publike \n\n18:30 – 19:00\nOPEN NETWORKING
URL:https://ri-expo.org/program/dan-2-24-04-petak/
ATTACH;FMTTYPE=image/png:https://ri-expo.org/wp-content/uploads/2026/04/2.png
END:VEVENT
BEGIN:VEVENT
DTSTART;TZID=Europe/Zagreb:20260425T140000
DTEND;TZID=Europe/Zagreb:20260425T193000
DTSTAMP:20260422T194431
CREATED:20260415T200040Z
LAST-MODIFIED:20260415T203501Z
UID:100791-1777125600-1777145400@ri-expo.org
SUMMARY:Predavanja i Paneli DAN 3 – 25.04. (SUBOTA)
DESCRIPTION:DAN 3 – 25.04. (SUBOTA)\nTEHNOLOGIJA\, INOVACIJE I MLADI\nPROGRAM: 14:00 – 19:30 \n\n14:00 – 14:30\nDolazak + NETWORKING \n\n14:30 – 15:15\nPANELAI BEZ HYPE-A \nSudionici:Danijel KlaićMarija SmiljanecMarinko TomićMarko Fuček \n15:15 – 15:30Pitanja publike \n\n15:30 – 16:15\nPANELOD FAKSA DO PRAKSE \nSudionici:Marijana MarijanovićPetra BesedićSunčana Smokvina HanzaLucija Žužić \n16:15 – 16:30Pitanja publike \n\n16:30 – 17:00\nNETWORKING PAUZA \n\n17:00 – 17:45\nPANELSPORT\, ZAJEDNICA I TEHNOLOGIJA \nSudionici:Renato KostovićZoran StevanovićToni ŠtimacPaul Simunović \n17:45 – 18:00Pitanja publike \n\n18:00 – 18:45\nPANELMLADI I TEHNOLOGIJA \nSudionici:Karlo AnićAnamarija JusupValentino SimunovićDorian Vranković \n18:45 – 19:00Pitanja publike \n\n19:00 – 19:30\nOPEN NETWORKING
URL:https://ri-expo.org/program/predavanja-i-paneli-dan-3-25-04-subota/
ATTACH;FMTTYPE=image/png:https://ri-expo.org/wp-content/uploads/2026/04/3.png
END:VEVENT
BEGIN:VEVENT
DTSTART;TZID=Europe/Zagreb:20260426T130000
DTEND;TZID=Europe/Zagreb:20260426T180000
DTSTAMP:20260422T194431
CREATED:20260415T200156Z
LAST-MODIFIED:20260415T201636Z
UID:100795-1777208400-1777226400@ri-expo.org
SUMMARY:Predavanja i Paneli DAN 4 – 26.04. (NEDJELJA)
DESCRIPTION:DAN 4 – 26.04. (NEDJELJA)\nDRUŠTVO\, BUDUĆNOST I ZAJEDNICA\nPROGRAM: 13:00 – 18:00 \n\n13:00 – 13:30\nDolazak + NETWORKING \n\n13:30 – 14:15\nPANELMOZAK – SRCE – TIJELO \nSudionici:Alenka BrozinaSonja GračaninSanja Katalinić \n14:15 – 14:30Pitanja publike \n\n14:30 – 15:00\nPREDAVANJEOksana Balyk Kirinčić \n\n15:00 – 15:30\nNETWORKING PAUZA \n\n15:30 – 16:15\nPANELPOSLOVANJE I STRES \nSudionici:Nora GračaninBeti KorenSara KraljIrina Marinković \n16:15 – 16:30Pitanja publike \n\n16:30 – 17:15\nPANELBUDUĆNOST TEHNOLOGIJE \nSudionici:Marko Čičin-ŠainMario ErcegTibor KezeljMatija Momčilović \n17:15 – 17:30Pitanja publike \n\n17:30 – 18:00\nPANELE-MOBILNOST I ODRŽIVA BUDUĆNOST \nSudionici:Vedran KirinčićDavor KaroljTomislav IvanetićFilip BilićAna JukićIvica Radošević
URL:https://ri-expo.org/program/predavanja-i-paneli-dan-4-26-04-nedjelja/
ATTACH;FMTTYPE=image/png:https://ri-expo.org/wp-content/uploads/2026/04/4.png
END:VEVENT
END:VCALENDAR